BEGIN:VCALENDAR
VERSION:2.0
PRODID:-//KS GOA - ECPv6.14.2//NONSGML v1.0//EN
CALSCALE:GREGORIAN
METHOD:PUBLISH
X-WR-CALNAME:KS GOA
X-ORIGINAL-URL:https://ksgoa.prodata.in
X-WR-CALDESC:Events for KS GOA
REFRESH-INTERVAL;VALUE=DURATION:PT1H
X-Robots-Tag:noindex
X-PUBLISHED-TTL:PT1H
BEGIN:VTIMEZONE
TZID:UTC
BEGIN:STANDARD
TZOFFSETFROM:+0000
TZOFFSETTO:+0000
TZNAME:UTC
DTSTART:20250101T000000
END:STANDARD
END:VTIMEZONE
BEGIN:VEVENT
DTSTART;TZID=UTC:20250416T080000
DTEND;TZID=UTC:20250424T170000
DTSTAMP:20260422T223651
CREATED:20250318T095537Z
LAST-MODIFIED:20250330T182056Z
UID:1184-1744790400-1745514000@ksgoa.prodata.in
SUMMARY:🌟Welcome to All Gazetted Officers of KSGOA! 🎉
DESCRIPTION:(Karnataka State Group – A Gazetted Officers Association) \nWe are delighted to welcome all esteemed members of KSGOA to this special Anniversary Celebration Event! This occasion is a tribute to your dedication\, leadership\, and commitment to serving Karnataka with excellence. \nJoin us as we commemorate our journey\, honor our collective achievements\, and strengthen the bonds that unite us. Let’s celebrate this milestone together with joy\, gratitude\, and a shared vision for the future! \n✨ Honoring Service | Celebrating Excellence | Inspiring the Future ✨
URL:https://ksgoa.prodata.in/event/welcome-to-all-gazetted-officers-of-ksgoa/
LOCATION:MLR Convention Centre\, Cassia Block\, Campus\, JP Nagar 7th Phase\, J. P. Nagar\, Bengaluru\, Karnataka\, 560078\, India
CATEGORIES:Events
END:VEVENT
END:VCALENDAR